BEGIN:VCALENDAR
VERSION:2.0
PRODID:-//Squarespace Inc/Squarespace 6//v6//EN
BEGIN:VEVENT
UID:549d74cce4b0d2e1e20b7237@squarespace.com
DTSTAMP:20141226T144729Z
DTSTART:20150506T200000Z
DTEND:20150506T210000Z
SUMMARY:Clinton Unit
GEO:40.582532;-98.362029
LOCATION:Elks Lodge #785\, 1520 E. South St.\, Clinton\, IL
END:VEVENT
END:VCALENDAR
