BEGIN:VCALENDAR
VERSION:2.0
PRODID:-//Squarespace Inc/Squarespace 6//v6//EN
BEGIN:VEVENT
UID:549d73ade4b07419f38b8e21@squarespace.com
DTSTAMP:20141226T144519Z
DTSTART:20150505T210000Z
DTEND:20150505T220000Z
SUMMARY:Galesburg Unit
GEO:42.047647;-93.622422
LOCATION:Galesburg Labor Temple\, 2423 Grand Ave.\, Galesburg\, IL
END:VEVENT
END:VCALENDAR
