BEGIN:VCALENDAR
VERSION:2.0
PRODID:-//Squarespace Inc/Squarespace 6//v6//EN
BEGIN:VEVENT
UID:549d7dd2e4b004237f801f2b@squarespace.com
DTSTAMP:20141226T152554Z
DTSTART:20150525T120000Z
DTEND:20150525T210000Z
SUMMARY:Office Closed\, Memorial Day
END:VEVENT
END:VCALENDAR
