BEGIN:VCALENDAR
VERSION:2.0
PRODID:-//Squarespace Inc/Squarespace 6//v6//EN
BEGIN:VEVENT
UID:549d7d2ee4b06c2b7afd2eea@squarespace.com
DTSTAMP:20141226T152316Z
DTSTART:20150514T213000Z
DTEND:20150514T223000Z
SUMMARY:Peoria Unit
GEO:44.948359;-93.25353
LOCATION:VFW 2602\, 1505 E. Lake St.\, Peoria Heights\, IL
END:VEVENT
END:VCALENDAR
