BEGIN:VCALENDAR
VERSION:2.0
PRODID:-//Squarespace Inc/Squarespace 6//v6//EN
BEGIN:VEVENT
UID:549d7c80e4b09ca9ce61d548@squarespace.com
DTSTAMP:20141226T152019Z
DTSTART:20150513T233000Z
DTEND:20150514T003000Z
SUMMARY:Jacksonville Unit
GEO:35.68531;-82.005647
LOCATION:AmVets Post 100\, 210 E. Court St.\, Jacksonville\, IL
END:VEVENT
END:VCALENDAR
