BEGIN:VCALENDAR
VERSION:2.0
PRODID:-//Squarespace Inc/Squarespace 6//v6//EN
BEGIN:VEVENT
UID:549d7c3ae4b0d2e1e20b8349@squarespace.com
DTSTAMP:20141226T151908Z
DTSTART:20150513T200000Z
DTEND:20150513T210000Z
SUMMARY:Baldwin Unit
GEO:38.325745;-89.878519
LOCATION:The Bullpen\, 101 N. Van Buren St.\, New Athens\, IL
END:VEVENT
END:VCALENDAR
