BEGIN:VCALENDAR
VERSION:2.0
PRODID:-//Squarespace Inc/Squarespace 6//v6//EN
BEGIN:VEVENT
UID:549d76ebe4b07419f38b94b1@squarespace.com
DTSTAMP:20141226T145654Z
DTSTART:20150512T220000Z
DTEND:20150512T230000Z
SUMMARY:Bloomington Unit
GEO:40.443059;-89.023341
LOCATION:IBEW Local 197\, 2407 Beich Rd\, Bloomington\, IL\, 61705\, United 
 States
END:VEVENT
END:VCALENDAR
