BEGIN:VCALENDAR
VERSION:2.0
PRODID:-//Squarespace Inc/Squarespace 6//v6//EN
BEGIN:VEVENT
UID:549d7661e4b05ce481ed857d@squarespace.com
DTSTAMP:20141226T145417Z
DTSTART:20150510T120000Z
DTEND:20150510T210000Z
SUMMARY:Mother's Day
END:VEVENT
END:VCALENDAR
