BEGIN:VCALENDAR
VERSION:2.0
PRODID:-//Squarespace Inc/Squarespace 6//v6//EN
BEGIN:VEVENT
UID:54987f4ae4b0cde86c354299@squarespace.com
DTSTAMP:20141222T203036Z
DTSTART:20150409T200000Z
DTEND:20150409T210000Z
SUMMARY:Decatur Unit
GEO:39.884277;-88.935795
LOCATION:IBEW Local 146\, 3390 N Woodford St\, Decatur\, IL\, 62526\, Unite
 d States
END:VEVENT
END:VCALENDAR
