BEGIN:VCALENDAR
VERSION:2.0
PRODID:-//Squarespace Inc/Squarespace 6//v6//EN
BEGIN:VEVENT
UID:54987f78e4b0f6433a341eb8@squarespace.com
DTSTAMP:20141222T203120Z
DTSTART:20150409T210000Z
DTEND:20150409T220000Z
SUMMARY:Decatur Unit 15
GEO:39.884277;-88.935795
LOCATION:IBEW Local 146\, 3390 N Woodford St\, Decatur\, IL\, 62526\, Unite
 d States
END:VEVENT
END:VCALENDAR
