BEGIN:VCALENDAR
VERSION:2.0
PRODID:-//Squarespace Inc/Squarespace 6//v6//EN
BEGIN:VEVENT
UID:54987e2fe4b07be3105ba76d@squarespace.com
DTSTAMP:20141222T202611Z
DTSTART:20150407T200000Z
DTEND:20150407T210000Z
SUMMARY:Havana Unit
GEO:41.603289;-87.518429
LOCATION:VFW\, 425 W. Ave\, Havana\, IL
END:VEVENT
END:VCALENDAR
