BEGIN:VCALENDAR
VERSION:2.0
PRODID:-//Squarespace Inc/Squarespace 6//v6//EN
BEGIN:VEVENT
UID:54987e6ee4b08da3f82b0c92@squarespace.com
DTSTAMP:20141222T202718Z
DTSTART:20150407T210000Z
DTEND:20150407T220000Z
SUMMARY:Galesburg Unit
GEO:40.932711;-90.333079
LOCATION:Galesburg Labor Temple\, 2423 Grand Ave.\, Galesburg\, IL
END:VEVENT
END:VCALENDAR
