BEGIN:VCALENDAR
VERSION:2.0
PRODID:-//Squarespace Inc/Squarespace 6//v6//EN
BEGIN:VEVENT
UID:54988200e4b015fce7f947bf@squarespace.com
DTSTAMP:20141222T204203Z
DTSTART:20150405T040000Z
DTEND:20150405T040000Z
SUMMARY:Easter Sunday
END:VEVENT
END:VCALENDAR
