BEGIN:VCALENDAR
VERSION:2.0
PRODID:-//Squarespace Inc/Squarespace 6//v6//EN
BEGIN:VEVENT
UID:54987df5e4b08da3f82b0aa9@squarespace.com
DTSTAMP:20141222T202504Z
DTSTART:20150403T120000Z
DTEND:20150403T210000Z
SUMMARY:Office Closed Good Friday
END:VEVENT
END:VCALENDAR
