BEGIN:VCALENDAR
VERSION:2.0
PRODID:-//Squarespace Inc/Squarespace 6//v6//EN
BEGIN:VEVENT
UID:54987db6e4b0f6433a341837@squarespace.com
DTSTAMP:20141222T202403Z
DTSTART:20150402T213000Z
DTEND:20150402T223000Z
SUMMARY:Springfield Unit
GEO:39.743448;-89.712231
LOCATION:IBEW Local 51 Hall\, 3171 Greenhead Dr\, Springfield\, IL\, 62711\
 , United States
END:VEVENT
END:VCALENDAR
