BEGIN:VCALENDAR
VERSION:2.0
PRODID:-//Squarespace Inc/Squarespace 6//v6//EN
BEGIN:VEVENT
UID:54988028e4b044170dca8fa0@squarespace.com
DTSTAMP:20141222T203430Z
DTSTART:20150414T213000Z
DTEND:20150414T223000Z
SUMMARY:Champaign Unit
GEO:40.130829;-88.252935
LOCATION:VFW Post 5520\, 609 Edgebrook Dr.\, Champaign\, IL
END:VEVENT
END:VCALENDAR
