BEGIN:VCALENDAR
VERSION:2.0
PRODID:-//Squarespace Inc/Squarespace 6//v6//EN
BEGIN:VEVENT
UID:549881cfe4b08b1b0448c33a@squarespace.com
DTSTAMP:20141222T204122Z
DTSTART:20150414T220000Z
DTEND:20150414T230000Z
SUMMARY:Bloomington Unit
GEO:40.443059;-89.023341
LOCATION:IBEW Local 197\, 2407 Beich Rd\, Bloomington\, IL\, 61705\, United 
 States
END:VEVENT
END:VCALENDAR
