BEGIN:VCALENDAR
VERSION:2.0
PRODID:-//Squarespace Inc/Squarespace 6//v6//EN
BEGIN:VEVENT
UID:54987fede4b04b06d45f7e42@squarespace.com
DTSTAMP:20141222T203320Z
DTSTART:20150410T233000Z
DTEND:20150411T003000Z
SUMMARY:Construction
GEO:39.743448;-89.712231
LOCATION:IBEW Local 51 Hall\, 3171 Greenhead Dr\, Springfield\, IL\, 62711\
 , United States
END:VEVENT
END:VCALENDAR
