BEGIN:VCALENDAR
VERSION:2.0
PRODID:-//Squarespace Inc/Squarespace 6//v6//EN
BEGIN:VEVENT
UID:54987ccde4b0bc65ffaa7084@squarespace.com
DTSTAMP:20141222T202018Z
DTSTART:20150401T200000Z
DTEND:20150401T210000Z
SUMMARY:Clinton Unit
GEO:40.150385;-88.943822
LOCATION:Elk's Lodge #785\, 1520 E. South St.\, Clinton IL
END:VEVENT
END:VCALENDAR
