BEGIN:VCALENDAR
VERSION:2.0
PRODID:-//Squarespace Inc/Squarespace 6//v6//EN
BEGIN:VEVENT
UID:549855d8e4b0af001f2f63df@squarespace.com
DTSTAMP:20141226T143702Z
DTSTART:20150308T070000Z
DTEND:20150308T080000Z
SUMMARY:Daylight savings time begins at 2:00 a.m.
END:VEVENT
END:VCALENDAR
