BEGIN:VCALENDAR
VERSION:2.0
PRODID:-//Squarespace Inc/Squarespace 6//v6//EN
BEGIN:VEVENT
UID:549854f2e4b07bc577865757@squarespace.com
DTSTAMP:20150303T154949Z
DTSTART:20150307T170000Z
DTEND:20150307T200000Z
SUMMARY:Peoria Unit Fish Fry
GEO:40.673257;-89.6496
LOCATION:St. Judes Knights of Columbus Hall\, 3523 W Hill St\, Peoria\, IL\
 , 61605\, United States
END:VEVENT
END:VCALENDAR
