BEGIN:VCALENDAR
VERSION:2.0
PRODID:-//Squarespace Inc/Squarespace 6//v6//EN
BEGIN:VEVENT
UID:5498514fe4b0b8fc5c5509b5@squarespace.com
DTSTAMP:20141222T174904Z
DTSTART:20150305T210000Z
DTEND:20150305T220000Z
SUMMARY:Wood River Unit
GEO:38.934723;-90.154596
LOCATION:IBEW Local 649\, 4051 Humbert Rd\, Alton\, IL\, 62002\, United Sta
 tes
END:VEVENT
END:VCALENDAR
