BEGIN:VCALENDAR
VERSION:2.0
PRODID:-//Squarespace Inc/Squarespace 6//v6//EN
BEGIN:VEVENT
UID:54985199e4b08b1b044810fe@squarespace.com
DTSTAMP:20141222T174916Z
DTSTART:20150305T223000Z
DTEND:20150305T233000Z
SUMMARY:Springfield Unit
GEO:39.743448;-89.712231
LOCATION:IBEW Local 51 Hall\, 3171 Greenhead Dr\, Springfield\, IL\, 62711\
 , United States
END:VEVENT
END:VCALENDAR
