BEGIN:VCALENDAR
VERSION:2.0
PRODID:-//Squarespace Inc/Squarespace 6//v6//EN
BEGIN:VEVENT
UID:549850f7e4b0bff4592e015b@squarespace.com
DTSTAMP:20141222T174853Z
DTSTART:20150304T230000Z
DTEND:20150305T000000Z
SUMMARY:LaSalle Unit
GEO:41.353253;-89.102855
LOCATION:VFW 4668\, 2325 Donahue St.\, LaSalle\, IL
END:VEVENT
END:VCALENDAR
