BEGIN:VCALENDAR
VERSION:2.0
PRODID:-//Squarespace Inc/Squarespace 6//v6//EN
BEGIN:VEVENT
UID:5498503ae4b02f36a3b6c992@squarespace.com
DTSTAMP:20141222T174613Z
DTSTART:20150304T210000Z
DTEND:20150304T220000Z
SUMMARY:Clinton Unit
GEO:40.582532;-98.362029
LOCATION:Elks Lodge #785\, 1520 E. South St.\, Clinton\, IL
END:VEVENT
END:VCALENDAR
