BEGIN:VCALENDAR
VERSION:2.0
PRODID:-//Squarespace Inc/Squarespace 6//v6//EN
BEGIN:VEVENT
UID:54984fc7e4b044170dc9dc40@squarespace.com
DTSTAMP:20141222T174551Z
DTSTART:20150303T220000Z
DTEND:20150303T230000Z
SUMMARY:Galesburg Unit
GEO:40.932711;-90.333079
LOCATION:Galesburg Labor Temple\, 2423 Grand Ave.\, Galesburg\, IL
END:VEVENT
END:VCALENDAR
