BEGIN:VCALENDAR
VERSION:2.0
PRODID:-//Squarespace Inc/Squarespace 6//v6//EN
BEGIN:VEVENT
UID:5498561be4b0c49940a37031@squarespace.com
DTSTAMP:20141226T150347Z
DTSTART:20150320T040000Z
DTEND:20150320T050000Z
SUMMARY:Spring Begins
END:VEVENT
END:VCALENDAR
