BEGIN:VCALENDAR
VERSION:2.0
PRODID:-//Squarespace Inc/Squarespace 6//v6//EN
BEGIN:VEVENT
UID:549853eae4b0bf0af367f86d@squarespace.com
DTSTAMP:20141222T175100Z
DTSTART:20150312T213000Z
DTEND:20150312T223000Z
SUMMARY:Peoria Unit
GEO:44.948359;-93.25353
LOCATION:VFW 2602\, 1505 E. Lake St.\, Peoria Heights\, IL
END:VEVENT
END:VCALENDAR
