BEGIN:VCALENDAR
VERSION:2.0
PRODID:-//Squarespace Inc/Squarespace 6//v6//EN
BEGIN:VEVENT
UID:54985331e4b0a4688eaeebf2@squarespace.com
DTSTAMP:20141222T175025Z
DTSTART:20150312T200000Z
DTEND:20150312T210000Z
SUMMARY:Decatur Unit
GEO:39.884277;-88.935795
LOCATION:IBEW Local 146\, 3390 N Woodford St\, Decatur\, IL\, 62526\, Unite
 d States
END:VEVENT
END:VCALENDAR
