BEGIN:VCALENDAR
VERSION:2.0
PRODID:-//Squarespace Inc/Squarespace 6//v6//EN
BEGIN:VEVENT
UID:549853b4e4b0bb6c8ef41270@squarespace.com
DTSTAMP:20141222T175048Z
DTSTART:20150312T210000Z
DTEND:20150312T220000Z
SUMMARY:Decatur Unit 15
GEO:39.884277;-88.935795
LOCATION:IBEW Local 146\, 3390 N Woodford St\, Decatur\, IL\, 62526\, Unite
 d States
END:VEVENT
END:VCALENDAR
