BEGIN:VCALENDAR
VERSION:2.0
PRODID:-//Squarespace Inc/Squarespace 6//v6//EN
BEGIN:VEVENT
UID:54985320e4b0bf0af367f5fe@squarespace.com
DTSTAMP:20141222T175014Z
DTSTART:20150311T233000Z
DTEND:20150312T003000Z
SUMMARY:Jacksonville Unit
GEO:35.68531;-82.005647
LOCATION:AmVets Post 100\, 210 E. Court St.\, Jacksonville\, IL
END:VEVENT
END:VCALENDAR
