BEGIN:VCALENDAR
VERSION:2.0
PRODID:-//Squarespace Inc/Squarespace 6//v6//EN
BEGIN:VEVENT
UID:549852aee4b0a4688eaeea59@squarespace.com
DTSTAMP:20141222T174954Z
DTSTART:20150311T200000Z
DTEND:20150311T210000Z
SUMMARY:Baldwin Unit
GEO:32.153217;-94.800893
LOCATION:The Bullpen\, 101 N. Van Buren St.\, New Athens\, IL
END:VEVENT
END:VCALENDAR
