BEGIN:VCALENDAR
VERSION:2.0
PRODID:-//Squarespace Inc/Squarespace 6//v6//EN
BEGIN:VEVENT
UID:549851d6e4b083669150d9a7@squarespace.com
DTSTAMP:20141222T174932Z
DTSTART:20150310T213000Z
DTEND:20150310T223000Z
SUMMARY:Champaign Unit
GEO:40.130829;-88.252935
LOCATION:VFW Post 5520\, 609 Edgebrooke Dr.\, Champaign\, IL
END:VEVENT
END:VCALENDAR
