BEGIN:VCALENDAR
VERSION:2.0
PRODID:-//Squarespace Inc/Squarespace 6//v6//EN
BEGIN:VEVENT
UID:549849e6e4b0164414e35f19@squarespace.com
DTSTAMP:20141222T175304Z
DTSTART:20150205T210000Z
DTEND:20150205T220000Z
SUMMARY:Wood River Unit
GEO:38.934723;-90.154596
LOCATION:I.B.E.W. LU649\, 4051 Humbert Rd\, Alton\, IL\, 62002\, United Sta
 tes
END:VEVENT
END:VCALENDAR
