BEGIN:VCALENDAR
VERSION:2.0
PRODID:-//Squarespace Inc/Squarespace 6//v6//EN
BEGIN:VEVENT
UID:54984a1ce4b0a909df7961c6@squarespace.com
DTSTAMP:20141222T175252Z
DTSTART:20150205T223000Z
DTEND:20150205T233000Z
SUMMARY:Springfield Unit
GEO:39.743448;-89.712231
LOCATION:I.B.E.W. Local 51 Hall\, 3171 Greenhead Dr\, Springfield\, IL\, 62
 711\, United States
END:VEVENT
END:VCALENDAR
