BEGIN:VCALENDAR
VERSION:2.0
PRODID:-//Squarespace Inc/Squarespace 6//v6//EN
BEGIN:VEVENT
UID:549848bee4b0efb497ea5b46@squarespace.com
DTSTAMP:20141222T175324Z
DTSTART:20150204T220000Z
DTEND:20150204T230000Z
SUMMARY:Lincoln Unit
GEO:40.143601;-89.34882
LOCATION:K.C. Hall\, 217 Limit St\, Lincoln\, IL\, 62656\, United States
END:VEVENT
END:VCALENDAR
