BEGIN:VCALENDAR
VERSION:2.0
PRODID:-//Squarespace Inc/Squarespace 6//v6//EN
BEGIN:VEVENT
UID:54984908e4b0630c86f620c9@squarespace.com
DTSTAMP:20141222T175314Z
DTSTART:20150204T230000Z
DTEND:20150205T000000Z
SUMMARY:LaSalle Unit
GEO:41.353253;-89.102855
LOCATION:VFW 4668\, 2325 Donahue St.\, LaSalle\, IL
END:VEVENT
END:VCALENDAR
