BEGIN:VCALENDAR
VERSION:2.0
PRODID:-//Squarespace Inc/Squarespace 6//v6//EN
BEGIN:VEVENT
UID:549846c9e4b0787a0cbefe37@squarespace.com
DTSTAMP:20141222T175343Z
DTSTART:20150203T220000Z
DTEND:20150203T230000Z
SUMMARY:Galesburg Unit
GEO:40.932711;-90.333079
LOCATION:Galesburg Labor Temple\, 2423 Grand Ave.\, Galesburg\, IL
END:VEVENT
END:VCALENDAR
