BEGIN:VCALENDAR
VERSION:2.0
PRODID:-//Squarespace Inc/Squarespace 6//v6//EN
BEGIN:VEVENT
UID:54984edee4b07cc94e326f83@squarespace.com
DTSTAMP:20141226T153442Z
DTSTART:20150221T140000Z
DTEND:20150221T170000Z
SUMMARY:Executive Board
GEO:39.743448;-89.712231
LOCATION:IBEW Local 51 Hall\, 3171 Greenhead Dr\, Springfield\, IL\, 62711\
 , United States
END:VEVENT
END:VCALENDAR
