BEGIN:VCALENDAR
VERSION:2.0
PRODID:-//Squarespace Inc/Squarespace 6//v6//EN
BEGIN:VEVENT
UID:54984e9de4b08142c2288e3d@squarespace.com
DTSTAMP:20141222T175133Z
DTSTART:20150214T003000Z
DTEND:20150214T013000Z
SUMMARY:Construction
GEO:39.743448;-89.712231
LOCATION:IBEW Local 51 Hall\, 3171 Greenhead Dr\, Springfield\, IL\, 62711\
 , United States
END:VEVENT
END:VCALENDAR
