BEGIN:VCALENDAR
VERSION:2.0
PRODID:-//Squarespace Inc/Squarespace 6//v6//EN
BEGIN:VEVENT
UID:54984d39e4b039edeefd706f@squarespace.com
DTSTAMP:20141222T175210Z
DTSTART:20150212T003000Z
DTEND:20150212T013000Z
SUMMARY:Jacksonville Unit
GEO:35.68531;-82.005647
LOCATION:AmVets Post 100\, 210 E. Court St.\, Jacksonville\, IL
END:VEVENT
END:VCALENDAR
