BEGIN:VCALENDAR
VERSION:2.0
PRODID:-//Squarespace Inc/Squarespace 6//v6//EN
BEGIN:VEVENT
UID:54984a7be4b0bc65ffa9ba6f@squarespace.com
DTSTAMP:20141222T175243Z
DTSTART:20150210T223000Z
DTEND:20150210T233000Z
SUMMARY:Champaign Unit
GEO:29.645462;-95.227052
LOCATION:VFW Post 5520\, 609 Edgebrook Dr.\, Champaign\, IL
END:VEVENT
END:VCALENDAR
