BEGIN:VCALENDAR
VERSION:2.0
PRODID:-//Squarespace Inc/Squarespace 6//v6//EN
BEGIN:VEVENT
UID:54984acee4b0b348162e0c33@squarespace.com
DTSTAMP:20141222T175235Z
DTSTART:20150210T230000Z
DTEND:20150211T000000Z
SUMMARY:Bloomington Unit
GEO:40.443059;-89.023341
LOCATION:I.B.E.W. Local 197\, 2407 Beich Rd\, Bloomington\, IL\, 61705\, Un
 ited States
END:VEVENT
END:VCALENDAR
