BEGIN:VCALENDAR
VERSION:2.0
PRODID:-//Squarespace Inc/Squarespace 6//v6//EN
BEGIN:VEVENT
UID:54a6ed69e4b0f1bacf84dbd1@squarespace.com
DTSTAMP:20150102T191216Z
DTSTART:20151210T003000Z
DTEND:20151210T013000Z
SUMMARY:Jacksonville Unit
GEO:39.734908;-90.22799
LOCATION:AmVets Post 100\, 210 E. Court St.\, Jacksonville\, IL
END:VEVENT
END:VCALENDAR
