BEGIN:VCALENDAR
VERSION:2.0
PRODID:-//Squarespace Inc/Squarespace 6//v6//EN
BEGIN:VEVENT
UID:54a6ed2fe4b039f26ff3f92c@squarespace.com
DTSTAMP:20150102T191123Z
DTSTART:20151209T210000Z
DTEND:20151209T220000Z
SUMMARY:Baldwin Unit
GEO:39.742855;-75.563407
LOCATION:The Bullpen\, 101 N. Van Buren St.\, New Athens\, IL
END:VEVENT
END:VCALENDAR
