BEGIN:VCALENDAR
VERSION:2.0
PRODID:-//Squarespace Inc/Squarespace 6//v6//EN
BEGIN:VEVENT
UID:54a6ecb3e4b01ff9ee51d46c@squarespace.com
DTSTAMP:20150102T190923Z
DTSTART:20151208T223000Z
DTEND:20151208T233000Z
SUMMARY:Champaign Unit
GEO:40.130829;-88.252935
LOCATION:VFW Post 5520\, 609 Edgebrook Dr\, Champaign\, IL\, 61820\, United 
 States
END:VEVENT
END:VCALENDAR
