BEGIN:VCALENDAR
VERSION:2.0
PRODID:-//Squarespace Inc/Squarespace 6//v6//EN
BEGIN:VEVENT
UID:54a6f131e4b0631d0c4a8e44@squarespace.com
DTSTAMP:20150102T192820Z
DTSTART:20151231T130000Z
DTEND:20151231T220000Z
SUMMARY:Office Closed - New Year's Eve
END:VEVENT
END:VCALENDAR
