BEGIN:VCALENDAR
VERSION:2.0
PRODID:-//Squarespace Inc/Squarespace 6//v6//EN
BEGIN:VEVENT
UID:54a6ec53e4b0ac4256e05143@squarespace.com
DTSTAMP:20150102T190743Z
DTSTART:20151203T223000Z
DTEND:20151203T233000Z
SUMMARY:Springfield Unit
GEO:39.743448;-89.712231
LOCATION:IBEW Local 51 Hall\, 3171 Greenhead Dr\, Springfield\, IL\, 62711\
 , United States
END:VEVENT
END:VCALENDAR
