BEGIN:VCALENDAR
VERSION:2.0
PRODID:-//Squarespace Inc/Squarespace 6//v6//EN
BEGIN:VEVENT
UID:54a6f04fe4b0d1cd06ecf576@squarespace.com
DTSTAMP:20150102T192609Z
DTSTART:20151225T130000Z
DTEND:20151225T220000Z
SUMMARY:Office Closed - Christmas
END:VEVENT
END:VCALENDAR
