BEGIN:VCALENDAR
VERSION:2.0
PRODID:-//Squarespace Inc/Squarespace 6//v6//EN
BEGIN:VEVENT
UID:54a6f01be4b041b86af49b3f@squarespace.com
DTSTAMP:20150102T192345Z
DTSTART:20151224T130000Z
DTEND:20151224T220000Z
SUMMARY:Office Closed - Christmas Eve
END:VEVENT
END:VCALENDAR
